BEGIN:VCALENDAR
VERSION:2.0
PRODID:-//Contratero//ES
CALSCALE:GREGORIAN
METHOD:PUBLISH
BEGIN:VEVENT
UID:2-02-2021=ass (3449/2021)@contratero.es
DTSTAMP:20260424T005737Z
DTSTART:20211130T235959
DTEND:20211201T005959
SUMMARY:Cierre: servicio y mantenimiento de puntos de acceso a int
DESCRIPTION:servicio y mantenimiento de puntos de acceso a internet\\n\\nOrganismo: Alcaldía del Ayuntamiento de Finestrat\\n\\nVer en Contratero: https://contratero.es/contracts/2-02-2021=ass (3449/2021)
URL:https://contratero.es/contracts/2-02-2021=ass (3449/2021)
STATUS:CONFIRMED
BEGIN:VALARM
TRIGGER:-P1D
ACTION:DISPLAY
DESCRIPTION:Recordatorio: servicio y mantenimiento de pu
END:VALARM
END:VEVENT
END:VCALENDAR